BEGIN:VCALENDAR
VERSION:2.0
PRODID:-//The Commune - ECPv6.15.20//NONSGML v1.0//EN
CALSCALE:GREGORIAN
METHOD:PUBLISH
X-ORIGINAL-URL:https://eastcoastcommune.com
X-WR-CALDESC:Events for The Commune
REFRESH-INTERVAL;VALUE=DURATION:PT1H
X-Robots-Tag:noindex
X-PUBLISHED-TTL:PT1H
BEGIN:VTIMEZONE
TZID:America/Sao_Paulo
BEGIN:STANDARD
TZOFFSETFROM:-0300
TZOFFSETTO:-0300
TZNAME:-03
DTSTART:20240101T000000
END:STANDARD
END:VTIMEZONE
BEGIN:VEVENT
DTSTART;TZID=America/Sao_Paulo:20250927T200000
DTEND;TZID=America/Sao_Paulo:20250927T220000
DTSTAMP:20260421T111357
CREATED:20250908T121337Z
LAST-MODIFIED:20250908T121452Z
UID:1279-1759003200-1759010400@eastcoastcommune.com
SUMMARY:Hunter Bushell\, Autumn Mackay & Sean Cowan
DESCRIPTION:These talented singer/ songwriters will be sharing original songs\, so book a table and enjoy live local music! \nHunter Bushell \nHunter BushellFacebook  \nAutumn Mackay \nAutumn MacKayFacebook · \nSean Cowan \nhttps://www.facebook.com/sean.cowan.944
URL:https://eastcoastcommune.com/event/hunter-bushell-autumn-mackay-sean-cowan/
LOCATION:The Commune Snackbar\, 563 Prince st.\, Truro\, Nova Scotia\, B2N 3J8\, Canada
CATEGORIES:Live Music
END:VEVENT
END:VCALENDAR