BEGIN:VCALENDAR
VERSION:2.0
PRODID:-//The Commune - ECPv6.15.20//NONSGML v1.0//EN
CALSCALE:GREGORIAN
METHOD:PUBLISH
X-ORIGINAL-URL:https://eastcoastcommune.com
X-WR-CALDESC:Events for The Commune
REFRESH-INTERVAL;VALUE=DURATION:PT1H
X-Robots-Tag:noindex
X-PUBLISHED-TTL:PT1H
BEGIN:VTIMEZONE
TZID:America/Sao_Paulo
BEGIN:STANDARD
TZOFFSETFROM:-0300
TZOFFSETTO:-0300
TZNAME:-03
DTSTART:20240101T000000
END:STANDARD
END:VTIMEZONE
BEGIN:VEVENT
DTSTART;TZID=America/Sao_Paulo:20251019T130000
DTEND;TZID=America/Sao_Paulo:20251019T150000
DTSTAMP:20260422T042602
CREATED:20250908T124600Z
LAST-MODIFIED:20250908T124600Z
UID:1298-1760878800-1760886000@eastcoastcommune.com
SUMMARY:Songwriters Circle
DESCRIPTION:Cozy up to talented Singer/ Songwriters as they share stories and songs. \nBook your table today! \nLine up TBA \nHosted by Meghan Lynn Music \n1pm – FREE
URL:https://eastcoastcommune.com/event/songwriters-circle-7/
LOCATION:The Commune Snackbar\, 563 Prince st.\, Truro\, Nova Scotia\, B2N 3J8\, Canada
CATEGORIES:Live Music
ATTACH;FMTTYPE=image/jpeg:https://eastcoastcommune.com/wp-content/uploads/2025/01/Resized_Vol._5_20250120_171058_0000-e1754181947879.jpg
END:VEVENT
END:VCALENDAR