BEGIN:VCALENDAR
VERSION:2.0
PRODID:-//The Commune - ECPv6.15.20//NONSGML v1.0//EN
CALSCALE:GREGORIAN
METHOD:PUBLISH
X-ORIGINAL-URL:https://eastcoastcommune.com
X-WR-CALDESC:Events for The Commune
REFRESH-INTERVAL;VALUE=DURATION:PT1H
X-Robots-Tag:noindex
X-PUBLISHED-TTL:PT1H
BEGIN:VTIMEZONE
TZID:America/Sao_Paulo
BEGIN:STANDARD
TZOFFSETFROM:-0300
TZOFFSETTO:-0300
TZNAME:-03
DTSTART:20250101T000000
END:STANDARD
END:VTIMEZONE
BEGIN:VEVENT
DTSTART;TZID=America/Sao_Paulo:20260315T130000
DTEND;TZID=America/Sao_Paulo:20260315T150000
DTSTAMP:20260421T195657
CREATED:20260309T224322Z
LAST-MODIFIED:20260309T224322Z
UID:1589-1773579600-1773586800@eastcoastcommune.com
SUMMARY:Songwriters Circle
DESCRIPTION:Our Songwriter’s Circle returns Sunday March 15th 1pm at The Commune with a celebration of Women Songwriter’s for Women’s History Month. We are honored to have Darlene MacNeil of PotsandPans \, Michelle Calder and Kelsey Erskine Music joining us for an afternoon of story and song. \nHosted by Meghan Lynn Music \n1PM
URL:https://eastcoastcommune.com/event/songwriters-circle-8/
LOCATION:The Commune Snackbar\, 563 Prince st.\, Truro\, Nova Scotia\, B2N 3J8\, Canada
CATEGORIES:Live Music
ATTACH;FMTTYPE=image/jpeg:https://eastcoastcommune.com/wp-content/uploads/2026/03/Resized_1_20260307_134117_0000.jpg
END:VEVENT
END:VCALENDAR