BEGIN:VCALENDAR
VERSION:2.0
PRODID:-//The Commune - ECPv6.15.20//NONSGML v1.0//EN
CALSCALE:GREGORIAN
METHOD:PUBLISH
X-WR-CALNAME:The Commune
X-ORIGINAL-URL:https://eastcoastcommune.com
X-WR-CALDESC:Events for The Commune
REFRESH-INTERVAL;VALUE=DURATION:PT1H
X-Robots-Tag:noindex
X-PUBLISHED-TTL:PT1H
BEGIN:VTIMEZONE
TZID:America/Sao_Paulo
BEGIN:STANDARD
TZOFFSETFROM:-0300
TZOFFSETTO:-0300
TZNAME:-03
DTSTART:20250101T000000
END:STANDARD
END:VTIMEZONE
BEGIN:VEVENT
DTSTART;TZID=America/Sao_Paulo:20260320T200000
DTEND;TZID=America/Sao_Paulo:20260320T220000
DTSTAMP:20260421T213034
CREATED:20260309T212701Z
LAST-MODIFIED:20260309T212701Z
UID:1569-1774036800-1774044000@eastcoastcommune.com
SUMMARY:Monthly Jazz Night
DESCRIPTION:***Our monthly Jazz Night continues on a special day this month.**** \nJoin us on Friday March 20th\, as the John Macleod Quartet is joined by Trevor Wentzell. \n8pm –  10pm \nNo Cover \nBook your table today. Space is limited. \nreservations: info@eastcoastcommune.com
URL:https://eastcoastcommune.com/event/monthly-jazz-night-4/
LOCATION:The Commune Snackbar\, 563 Prince st.\, Truro\, Nova Scotia\, B2N 3J8\, Canada
CATEGORIES:Live Music
ATTACH;FMTTYPE=image/jpeg:https://eastcoastcommune.com/wp-content/uploads/2026/02/9AAD146F-78E7-4F8E-9E24-DEA061AAE9A6.jpg
END:VEVENT
END:VCALENDAR