BEGIN:VCALENDAR
VERSION:2.0
PRODID:-//The Commune - ECPv6.15.20//NONSGML v1.0//EN
CALSCALE:GREGORIAN
METHOD:PUBLISH
X-WR-CALNAME:The Commune
X-ORIGINAL-URL:https://eastcoastcommune.com
X-WR-CALDESC:Events for The Commune
REFRESH-INTERVAL;VALUE=DURATION:PT1H
X-Robots-Tag:noindex
X-PUBLISHED-TTL:PT1H
BEGIN:VTIMEZONE
TZID:America/Sao_Paulo
BEGIN:STANDARD
TZOFFSETFROM:-0300
TZOFFSETTO:-0300
TZNAME:-03
DTSTART:20240101T000000
END:STANDARD
END:VTIMEZONE
BEGIN:VEVENT
DTSTART;TZID=America/Sao_Paulo:20251212T200000
DTEND;TZID=America/Sao_Paulo:20251212T220000
DTSTAMP:20260422T033333
CREATED:20251113T222139Z
LAST-MODIFIED:20251204T151254Z
UID:1456-1765569600-1765576800@eastcoastcommune.com
SUMMARY:Mike Mcgrath
DESCRIPTION:Mike McGrath is back in Truro on Friday December 12th ! \nReserve your table today! \ninfo@eastcoastcommune.com \n 
URL:https://eastcoastcommune.com/event/closed-private-event/
LOCATION:The Commune Snackbar\, 563 Prince st.\, Truro\, Nova Scotia\, B2N 3J8\, Canada
ATTACH;FMTTYPE=image/png:https://eastcoastcommune.com/wp-content/uploads/2025/11/Private-Home-6.png
END:VEVENT
END:VCALENDAR