BEGIN:VCALENDAR
VERSION:2.0
PRODID:-//The Commune - ECPv6.15.20//NONSGML v1.0//EN
CALSCALE:GREGORIAN
METHOD:PUBLISH
X-ORIGINAL-URL:https://eastcoastcommune.com
X-WR-CALDESC:Events for The Commune
REFRESH-INTERVAL;VALUE=DURATION:PT1H
X-Robots-Tag:noindex
X-PUBLISHED-TTL:PT1H
BEGIN:VTIMEZONE
TZID:America/Sao_Paulo
BEGIN:STANDARD
TZOFFSETFROM:-0300
TZOFFSETTO:-0300
TZNAME:-03
DTSTART:20240101T000000
END:STANDARD
END:VTIMEZONE
BEGIN:VEVENT
DTSTART;TZID=America/Sao_Paulo:20250221T200000
DTEND;TZID=America/Sao_Paulo:20250221T220000
DTSTAMP:20260421T122658
CREATED:20250120T212804Z
LAST-MODIFIED:20250218T203208Z
UID:669-1740168000-1740175200@eastcoastcommune.com
SUMMARY:Gypsy Run -Live Music
DESCRIPTION:GypsyRunn is a high energy duo that is sure to play all your favourites! We cover many genres from country\, classic rock\, blues and pop and take pride in our strong harmonies and playful banter! \nCome on down for a fun night of live music in Truro\, NS
URL:https://eastcoastcommune.com/event/gypsy-run-live-music/
LOCATION:The Commune Snackbar\, 563 Prince st.\, Truro\, Nova Scotia\, B2N 3J8\, Canada
CATEGORIES:Live Music
ATTACH;FMTTYPE=image/jpeg:https://eastcoastcommune.com/wp-content/uploads/2025/01/IMG_8727.jpg
END:VEVENT
END:VCALENDAR