BEGIN:VCALENDAR
VERSION:2.0
PRODID:-//The Commune - ECPv6.15.20//NONSGML v1.0//EN
CALSCALE:GREGORIAN
METHOD:PUBLISH
X-WR-CALNAME:The Commune
X-ORIGINAL-URL:https://eastcoastcommune.com
X-WR-CALDESC:Events for The Commune
REFRESH-INTERVAL;VALUE=DURATION:PT1H
X-Robots-Tag:noindex
X-PUBLISHED-TTL:PT1H
BEGIN:VTIMEZONE
TZID:America/Sao_Paulo
BEGIN:STANDARD
TZOFFSETFROM:-0300
TZOFFSETTO:-0300
TZNAME:-03
DTSTART:20240101T000000
END:STANDARD
END:VTIMEZONE
BEGIN:VEVENT
DTSTART;TZID=America/Sao_Paulo:20250114T180000
DTEND;TZID=America/Sao_Paulo:20250114T210000
DTSTAMP:20260421T140220
CREATED:20250103T133620Z
LAST-MODIFIED:20250103T133620Z
UID:612-1736877600-1736888400@eastcoastcommune.com
SUMMARY:Open Mic- All Ages
DESCRIPTION:Join us for Truro’s only All Ages Open Mic Night! \nAll skill levels welcomed. \nAll Ages. Kitchen Open \n.
URL:https://eastcoastcommune.com/event/open-mic-all-ages/
LOCATION:The Commune Snackbar\, 563 Prince st.\, Truro\, Nova Scotia\, B2N 3J8\, Canada
CATEGORIES:Live Music
ATTACH;FMTTYPE=image/jpeg:https://eastcoastcommune.com/wp-content/uploads/2024/12/Resized_ALL_ages_20241103_213819_0000-2.jpg
END:VEVENT
END:VCALENDAR