BEGIN:VCALENDAR
VERSION:2.0
PRODID:-//The Commune - ECPv6.15.20//NONSGML v1.0//EN
CALSCALE:GREGORIAN
METHOD:PUBLISH
X-ORIGINAL-URL:https://eastcoastcommune.com
X-WR-CALDESC:Events for The Commune
REFRESH-INTERVAL;VALUE=DURATION:PT1H
X-Robots-Tag:noindex
X-PUBLISHED-TTL:PT1H
BEGIN:VTIMEZONE
TZID:America/Sao_Paulo
BEGIN:STANDARD
TZOFFSETFROM:-0300
TZOFFSETTO:-0300
TZNAME:-03
DTSTART:20240101T000000
END:STANDARD
END:VTIMEZONE
BEGIN:VEVENT
DTSTART;TZID=America/Sao_Paulo:20251218T200000
DTEND;TZID=America/Sao_Paulo:20251218T220000
DTSTAMP:20260422T015946
CREATED:20251201T134044Z
LAST-MODIFIED:20251201T134044Z
UID:1466-1766088000-1766095200@eastcoastcommune.com
SUMMARY:Solstice Jazz Trio
DESCRIPTION:The Trio is back for some Christmas Themed Jazz! \n  \nAll Ages and Free Entry \n8pm-10pm
URL:https://eastcoastcommune.com/event/solstice-jazz-trio/
LOCATION:The Commune Snackbar\, 563 Prince st.\, Truro\, Nova Scotia\, B2N 3J8\, Canada
CATEGORIES:Live Music
ATTACH;FMTTYPE=image/jpeg:https://eastcoastcommune.com/wp-content/uploads/2025/12/IMG_7D810EE151D3-1.jpeg
END:VEVENT
BEGIN:VEVENT
DTSTART;TZID=America/Sao_Paulo:20251219T200000
DTEND;TZID=America/Sao_Paulo:20251219T220000
DTSTAMP:20260422T015946
CREATED:20251201T134640Z
LAST-MODIFIED:20251201T134640Z
UID:1471-1766174400-1766181600@eastcoastcommune.com
SUMMARY:Monthly Jazz Night
DESCRIPTION:The last Jazz night of the year with the John Macleod Quartet. This month  Aaron Bannerman joins the band. \nReserve you table today! info@eastcoastcommune.com \nFree Entry \n**DATE CHANGED from 12th to * Friday December 19th  *
URL:https://eastcoastcommune.com/event/monthly-jazz-night-2/
LOCATION:The Commune Snackbar\, 563 Prince st.\, Truro\, Nova Scotia\, B2N 3J8\, Canada
CATEGORIES:Live Music
ATTACH;FMTTYPE=image/jpeg:https://eastcoastcommune.com/wp-content/uploads/2025/08/2C59C8A6-DE97-4DA4-8369-04E49F2F591E.jpg
END:VEVENT
END:VCALENDAR