BEGIN:VCALENDAR
VERSION:2.0
PRODID:-//The Commune - ECPv6.15.20//NONSGML v1.0//EN
CALSCALE:GREGORIAN
METHOD:PUBLISH
X-ORIGINAL-URL:https://eastcoastcommune.com
X-WR-CALDESC:Events for The Commune
REFRESH-INTERVAL;VALUE=DURATION:PT1H
X-Robots-Tag:noindex
X-PUBLISHED-TTL:PT1H
BEGIN:VTIMEZONE
TZID:America/Sao_Paulo
BEGIN:STANDARD
TZOFFSETFROM:-0300
TZOFFSETTO:-0300
TZNAME:-03
DTSTART:20230101T000000
END:STANDARD
END:VTIMEZONE
BEGIN:VEVENT
DTSTART;TZID=America/Sao_Paulo:20250209T130000
DTEND;TZID=America/Sao_Paulo:20250209T160000
DTSTAMP:20260421T151518
CREATED:20250120T211342Z
LAST-MODIFIED:20250120T211342Z
UID:656-1739106000-1739116800@eastcoastcommune.com
SUMMARY:Songwriters Circle
DESCRIPTION:Join us for another edition of Truro’s only all ages Songwriters Circle. \nHosted by Meghan Lynn Music \nThis month’s performers to be announced. Vol. 5 \n. \n 
URL:https://eastcoastcommune.com/event/songwriters-circle/
LOCATION:The Commune Snackbar\, 563 Prince st.\, Truro\, Nova Scotia\, B2N 3J8\, Canada
CATEGORIES:Live Music
ATTACH;FMTTYPE=image/jpeg:https://eastcoastcommune.com/wp-content/uploads/2025/01/Resized_Vol._5_20250120_171058_0000-e1754181947879.jpg
END:VEVENT
BEGIN:VEVENT
DTSTART;TZID=America/Sao_Paulo:20250114T180000
DTEND;TZID=America/Sao_Paulo:20250114T210000
DTSTAMP:20260421T151518
CREATED:20250103T133620Z
LAST-MODIFIED:20250103T133620Z
UID:612-1736877600-1736888400@eastcoastcommune.com
SUMMARY:Open Mic- All Ages
DESCRIPTION:Join us for Truro’s only All Ages Open Mic Night! \nAll skill levels welcomed. \nAll Ages. Kitchen Open \n.
URL:https://eastcoastcommune.com/event/open-mic-all-ages/
LOCATION:The Commune Snackbar\, 563 Prince st.\, Truro\, Nova Scotia\, B2N 3J8\, Canada
CATEGORIES:Live Music
ATTACH;FMTTYPE=image/jpeg:https://eastcoastcommune.com/wp-content/uploads/2024/12/Resized_ALL_ages_20241103_213819_0000-2.jpg
END:VEVENT
BEGIN:VEVENT
DTSTART;TZID=America/Sao_Paulo:20250112T130000
DTEND;TZID=America/Sao_Paulo:20250112T160000
DTSTAMP:20260421T151518
CREATED:20250103T133346Z
LAST-MODIFIED:20250103T133346Z
UID:609-1736686800-1736697600@eastcoastcommune.com
SUMMARY:Songwriters Circle - Truro
DESCRIPTION:Join us at The Commune\, home of The Truro Songwriter’s Circle Series\, for Vol. 4 on Sunday January 12th at 1pm! We are so thrilled to bring you 6 more incredibly talented singer songwriters for a cozy afternoon of story and songs!\nYou won’t want to miss this.\n\nAll Ages. Kitchen Always Open.
URL:https://eastcoastcommune.com/event/songwriters-circle-truro/
LOCATION:The Commune Snackbar\, 563 Prince st.\, Truro\, Nova Scotia\, B2N 3J8\, Canada
CATEGORIES:Live Music
ATTACH;FMTTYPE=image/jpeg:https://eastcoastcommune.com/wp-content/uploads/2025/01/Resized_Copy_of_Songwriters_Circle_Series_Vol._1_20241226_153916_0000.jpg
END:VEVENT
BEGIN:VEVENT
DTSTART;TZID=America/Sao_Paulo:20241228T200000
DTEND;TZID=America/Sao_Paulo:20241228T220000
DTSTAMP:20260421T151518
CREATED:20241216T181738Z
LAST-MODIFIED:20241216T181738Z
UID:589-1735416000-1735423200@eastcoastcommune.com
SUMMARY:Andre Pettipas
DESCRIPTION:Andre Pettipas is back for our last live music event until the New Year. \nJoin us for night filled with laughs\, stories and live music! \n 
URL:https://eastcoastcommune.com/event/andre-pettipas/
LOCATION:The Commune Snackbar\, 563 Prince st.\, Truro\, Nova Scotia\, B2N 3J8\, Canada
CATEGORIES:Live Music
ATTACH;FMTTYPE=image/jpeg:https://eastcoastcommune.com/wp-content/uploads/2024/12/Andre-Dec-28th.jpg
END:VEVENT
END:VCALENDAR