BEGIN:VCALENDAR
VERSION:2.0
PRODID:-//The Commune - ECPv6.15.20//NONSGML v1.0//EN
CALSCALE:GREGORIAN
METHOD:PUBLISH
X-WR-CALNAME:The Commune
X-ORIGINAL-URL:https://eastcoastcommune.com
X-WR-CALDESC:Events for The Commune
REFRESH-INTERVAL;VALUE=DURATION:PT1H
X-Robots-Tag:noindex
X-PUBLISHED-TTL:PT1H
BEGIN:VTIMEZONE
TZID:America/Sao_Paulo
BEGIN:STANDARD
TZOFFSETFROM:-0300
TZOFFSETTO:-0300
TZNAME:-03
DTSTART:20240101T000000
END:STANDARD
END:VTIMEZONE
BEGIN:VEVENT
DTSTART;TZID=America/Sao_Paulo:20250818T180000
DTEND;TZID=America/Sao_Paulo:20250818T210000
DTSTAMP:20260419T111638
CREATED:20250602T174401Z
LAST-MODIFIED:20250602T174401Z
UID:1138-1755540000-1755550800@eastcoastcommune.com
SUMMARY:Open Mic
DESCRIPTION:Come out and support Truro’s only All Ages Open Mic Night. \nTry out new material\, sing your favourite songs and meet other musicians. \nAlways a supportive crowd. 6pm- 9pm \nHosted by Megan Lynn \n 
URL:https://eastcoastcommune.com/event/open-mic-9/
LOCATION:The Commune Snackbar\, 563 Prince st.\, Truro\, Nova Scotia\, B2N 3J8\, Canada
CATEGORIES:Live Music
ATTACH;FMTTYPE=image/jpeg:https://eastcoastcommune.com/wp-content/uploads/2025/05/Resized_Pink_Playful_Y2K_Sale_Discount_Promotion_Instagram_Post_45_20250518_215514_0000.jpg
END:VEVENT
END:VCALENDAR