BEGIN:VCALENDAR
VERSION:2.0
PRODID:-//The Commune - ECPv6.15.20//NONSGML v1.0//EN
CALSCALE:GREGORIAN
METHOD:PUBLISH
X-WR-CALNAME:The Commune
X-ORIGINAL-URL:https://eastcoastcommune.com
X-WR-CALDESC:Events for The Commune
REFRESH-INTERVAL;VALUE=DURATION:PT1H
X-Robots-Tag:noindex
X-PUBLISHED-TTL:PT1H
BEGIN:VTIMEZONE
TZID:America/Sao_Paulo
BEGIN:STANDARD
TZOFFSETFROM:-0300
TZOFFSETTO:-0300
TZNAME:-03
DTSTART:20240101T000000
END:STANDARD
END:VTIMEZONE
BEGIN:VEVENT
DTSTART;TZID=America/Sao_Paulo:20250801T203000
DTEND;TZID=America/Sao_Paulo:20250801T230000
DTSTAMP:20260421T045905
CREATED:20250630T154146Z
LAST-MODIFIED:20250630T154146Z
UID:1146-1754080200-1754089200@eastcoastcommune.com
SUMMARY:Hip Hop Karaoke
DESCRIPTION:Hip Hop Karaoke is growing!! Pick any Hip Hop\, Reggae or RNB song and hit the stage! Not participating\, that ok\, show your support  by cheering on the participants. \n  \nNo Cover \nKaraoke at 8:30pm \nHosted by DJ RGG
URL:https://eastcoastcommune.com/event/hip-hop-karaoke-5/
LOCATION:The Commune Snackbar\, 563 Prince st.\, Truro\, Nova Scotia\, B2N 3J8\, Canada
CATEGORIES:Live Music
ATTACH;FMTTYPE=image/jpeg:https://eastcoastcommune.com/wp-content/uploads/2025/05/IMG_9931-scaled.jpeg
END:VEVENT
END:VCALENDAR