BEGIN:VCALENDAR
VERSION:2.0
PRODID:-//The Commune - ECPv6.15.20//NONSGML v1.0//EN
CALSCALE:GREGORIAN
METHOD:PUBLISH
X-ORIGINAL-URL:https://eastcoastcommune.com
X-WR-CALDESC:Events for The Commune
REFRESH-INTERVAL;VALUE=DURATION:PT1H
X-Robots-Tag:noindex
X-PUBLISHED-TTL:PT1H
BEGIN:VTIMEZONE
TZID:America/Sao_Paulo
BEGIN:STANDARD
TZOFFSETFROM:-0300
TZOFFSETTO:-0300
TZNAME:-03
DTSTART:20240101T000000
END:STANDARD
END:VTIMEZONE
BEGIN:VEVENT
DTSTART;TZID=America/Sao_Paulo:20250723T190000
DTEND;TZID=America/Sao_Paulo:20250723T210000
DTSTAMP:20260421T050029
CREATED:20250630T152304Z
LAST-MODIFIED:20250630T152304Z
UID:1141-1753297200-1753304400@eastcoastcommune.com
SUMMARY:The Empties
DESCRIPTION:Despite their name Toronto’s The Empties deliver a full sound the feels classic and road tested.\nMusic at 7:00PMDonation at the door\nThe Empties are a 5 piece band based in Toronto making a name for ourselves through timeless and charismatic performances. Our individually unique and varied musical styles come together to create music that connects with listeners of all ages\, with a digestible sound. We’ve been checking off the list of legendary venues for their headlining\, self-promoted shows\, including Lee’s Palace (Toronto)\, Horseshoe Tavern (Toronto)\, Rainbow Bistro (Ottawa)\, and La Sala Rossa (Montreal).
URL:https://eastcoastcommune.com/event/the-empties/
LOCATION:Nova Scotia
CATEGORIES:Live Music
ATTACH;FMTTYPE=image/jpeg:https://eastcoastcommune.com/wp-content/uploads/2025/06/513048567_1452452005799006_1685989524578318368_n.jpg
END:VEVENT
END:VCALENDAR