BEGIN:VCALENDAR
VERSION:2.0
PRODID:-//The Commune - ECPv6.15.20//NONSGML v1.0//EN
CALSCALE:GREGORIAN
METHOD:PUBLISH
X-ORIGINAL-URL:https://eastcoastcommune.com
X-WR-CALDESC:Events for The Commune
REFRESH-INTERVAL;VALUE=DURATION:PT1H
X-Robots-Tag:noindex
X-PUBLISHED-TTL:PT1H
BEGIN:VTIMEZONE
TZID:America/Sao_Paulo
BEGIN:STANDARD
TZOFFSETFROM:-0300
TZOFFSETTO:-0300
TZNAME:-03
DTSTART:20240101T000000
END:STANDARD
END:VTIMEZONE
BEGIN:VEVENT
DTSTART;TZID=America/Sao_Paulo:20250719T200000
DTEND;TZID=America/Sao_Paulo:20250719T230000
DTSTAMP:20260421T050030
CREATED:20250630T164245Z
LAST-MODIFIED:20250630T164245Z
UID:1156-1752955200-1752966000@eastcoastcommune.com
SUMMARY:2 Left Boots
DESCRIPTION:Ok Country Fans\, you requested so we’ll provide it!\n\n2 Left Boots perform live from 8pm-10pm\n\n$10 Cover Kitchen Open Late
URL:https://eastcoastcommune.com/event/2-left-boots/
LOCATION:The Commune Snackbar\, 563 Prince st.\, Truro\, Nova Scotia\, B2N 3J8\, Canada
CATEGORIES:Live Music
ATTACH;FMTTYPE=image/jpeg:https://eastcoastcommune.com/wp-content/uploads/2025/06/8CBC580D-85D6-4D8E-8DF4-6640EAB56066.jpg
END:VEVENT
END:VCALENDAR