BEGIN:VCALENDAR
VERSION:2.0
PRODID:-//The Commune - ECPv6.15.20//NONSGML v1.0//EN
CALSCALE:GREGORIAN
METHOD:PUBLISH
X-ORIGINAL-URL:https://eastcoastcommune.com
X-WR-CALDESC:Events for The Commune
REFRESH-INTERVAL;VALUE=DURATION:PT1H
X-Robots-Tag:noindex
X-PUBLISHED-TTL:PT1H
BEGIN:VTIMEZONE
TZID:America/Sao_Paulo
BEGIN:STANDARD
TZOFFSETFROM:-0300
TZOFFSETTO:-0300
TZNAME:-03
DTSTART:20240101T000000
END:STANDARD
END:VTIMEZONE
BEGIN:VEVENT
DTSTART;TZID=America/Sao_Paulo:20250718T200000
DTEND;TZID=America/Sao_Paulo:20250718T220000
DTSTAMP:20260421T045425
CREATED:20250703T141339Z
LAST-MODIFIED:20250703T141837Z
UID:1171-1752868800-1752876000@eastcoastcommune.com
SUMMARY:Mat Hughes & Sadie Skinner
DESCRIPTION:Halifax Singer Songwriter and pianist along with Sadie Skinner ( Sarah Roberts from Steel Cut Oats) perform at The Commune :Snackbar. July 18th pwyc
URL:https://eastcoastcommune.com/event/mat-hughes-sadie-skinner/
LOCATION:The Commune Snackbar\, 563 Prince st.\, Truro\, Nova Scotia\, B2N 3J8\, Canada
CATEGORIES:Live Music
ATTACH;FMTTYPE=image/jpeg:https://eastcoastcommune.com/wp-content/uploads/2025/07/IMG_9784.jpg
END:VEVENT
END:VCALENDAR