BEGIN:VCALENDAR
VERSION:2.0
PRODID:-//The Commune - ECPv6.15.20//NONSGML v1.0//EN
CALSCALE:GREGORIAN
METHOD:PUBLISH
X-ORIGINAL-URL:https://eastcoastcommune.com
X-WR-CALDESC:Events for The Commune
REFRESH-INTERVAL;VALUE=DURATION:PT1H
X-Robots-Tag:noindex
X-PUBLISHED-TTL:PT1H
BEGIN:VTIMEZONE
TZID:America/Sao_Paulo
BEGIN:STANDARD
TZOFFSETFROM:-0300
TZOFFSETTO:-0300
TZNAME:-03
DTSTART:20240101T000000
END:STANDARD
END:VTIMEZONE
BEGIN:VEVENT
DTSTART;TZID=America/Sao_Paulo:20250801T203000
DTEND;TZID=America/Sao_Paulo:20250801T230000
DTSTAMP:20260421T045854
CREATED:20250630T154146Z
LAST-MODIFIED:20250630T154146Z
UID:1146-1754080200-1754089200@eastcoastcommune.com
SUMMARY:Hip Hop Karaoke
DESCRIPTION:Hip Hop Karaoke is growing!! Pick any Hip Hop\, Reggae or RNB song and hit the stage! Not participating\, that ok\, show your support  by cheering on the participants. \n  \nNo Cover \nKaraoke at 8:30pm \nHosted by DJ RGG
URL:https://eastcoastcommune.com/event/hip-hop-karaoke-5/
LOCATION:The Commune Snackbar\, 563 Prince st.\, Truro\, Nova Scotia\, B2N 3J8\, Canada
CATEGORIES:Live Music
ATTACH;FMTTYPE=image/jpeg:https://eastcoastcommune.com/wp-content/uploads/2025/05/IMG_9931-scaled.jpeg
END:VEVENT
BEGIN:VEVENT
DTSTART;TZID=America/Sao_Paulo:20250804T180000
DTEND;TZID=America/Sao_Paulo:20250804T210000
DTSTAMP:20260421T045854
CREATED:20250602T174315Z
LAST-MODIFIED:20250602T174315Z
UID:1136-1754330400-1754341200@eastcoastcommune.com
SUMMARY:Open Mic
DESCRIPTION:Come out and support Truro’s only All Ages Open Mic Night. \nTry out new material\, sing your favourite songs and meet other musicians. \nAlways a supportive crowd. 6pm- 9pm \nHosted by Megan Lynn \n 
URL:https://eastcoastcommune.com/event/open-mic-8/
LOCATION:The Commune Snackbar\, 563 Prince st.\, Truro\, Nova Scotia\, B2N 3J8\, Canada
CATEGORIES:Live Music
ATTACH;FMTTYPE=image/jpeg:https://eastcoastcommune.com/wp-content/uploads/2025/05/Resized_Pink_Playful_Y2K_Sale_Discount_Promotion_Instagram_Post_45_20250518_215514_0000.jpg
END:VEVENT
BEGIN:VEVENT
DTSTART;TZID=America/Sao_Paulo:20250810T130000
DTEND;TZID=America/Sao_Paulo:20250810T150000
DTSTAMP:20260421T045854
CREATED:20250803T004600Z
LAST-MODIFIED:20250803T030355Z
UID:1185-1754830800-1754838000@eastcoastcommune.com
SUMMARY:Songwriters Circle
DESCRIPTION:TBA
URL:https://eastcoastcommune.com/event/songwriters-circle-6/
LOCATION:The Commune Snackbar\, 563 Prince st.\, Truro\, Nova Scotia\, B2N 3J8\, Canada
CATEGORIES:Live Music
ATTACH;FMTTYPE=image/jpeg:https://eastcoastcommune.com/wp-content/uploads/2025/01/Resized_Vol._5_20250120_171058_0000-e1754181947879.jpg
END:VEVENT
BEGIN:VEVENT
DTSTART;TZID=America/Sao_Paulo:20250815T200000
DTEND;TZID=America/Sao_Paulo:20250815T220000
DTSTAMP:20260421T045854
CREATED:20250803T004056Z
LAST-MODIFIED:20250803T004056Z
UID:1179-1755288000-1755295200@eastcoastcommune.com
SUMMARY:Solstice Jazz Quartet
DESCRIPTION:Solstice Jazz Quartet makes their return to the Commune Snack Bar! \nMake sure to call and reserve a table. \n902-843-1230 \ninfo@eastcoastcommune.com
URL:https://eastcoastcommune.com/event/solstice-jazz-quartet-2/
LOCATION:The Commune Snackbar\, 563 Prince st.\, Truro\, Nova Scotia\, B2N 3J8\, Canada
CATEGORIES:Live Music
END:VEVENT
BEGIN:VEVENT
DTSTART;TZID=America/Sao_Paulo:20250818T180000
DTEND;TZID=America/Sao_Paulo:20250818T210000
DTSTAMP:20260421T045854
CREATED:20250602T174401Z
LAST-MODIFIED:20250602T174401Z
UID:1138-1755540000-1755550800@eastcoastcommune.com
SUMMARY:Open Mic
DESCRIPTION:Come out and support Truro’s only All Ages Open Mic Night. \nTry out new material\, sing your favourite songs and meet other musicians. \nAlways a supportive crowd. 6pm- 9pm \nHosted by Megan Lynn \n 
URL:https://eastcoastcommune.com/event/open-mic-9/
LOCATION:The Commune Snackbar\, 563 Prince st.\, Truro\, Nova Scotia\, B2N 3J8\, Canada
CATEGORIES:Live Music
ATTACH;FMTTYPE=image/jpeg:https://eastcoastcommune.com/wp-content/uploads/2025/05/Resized_Pink_Playful_Y2K_Sale_Discount_Promotion_Instagram_Post_45_20250518_215514_0000.jpg
END:VEVENT
BEGIN:VEVENT
DTSTART;TZID=America/Sao_Paulo:20250828T200000
DTEND;TZID=America/Sao_Paulo:20250828T220000
DTSTAMP:20260421T045854
CREATED:20250810T172827Z
LAST-MODIFIED:20250810T172849Z
UID:1206-1756411200-1756418400@eastcoastcommune.com
SUMMARY:Live Music
DESCRIPTION:TBA
URL:https://eastcoastcommune.com/event/live-music-5/
LOCATION:The Commune Snackbar\, 563 Prince st.\, Truro\, Nova Scotia\, B2N 3J8\, Canada
CATEGORIES:Live Music
END:VEVENT
END:VCALENDAR