BEGIN:VCALENDAR
VERSION:2.0
PRODID:-//The Commune - ECPv6.15.20//NONSGML v1.0//EN
CALSCALE:GREGORIAN
METHOD:PUBLISH
X-WR-CALNAME:The Commune
X-ORIGINAL-URL:https://eastcoastcommune.com
X-WR-CALDESC:Events for The Commune
REFRESH-INTERVAL;VALUE=DURATION:PT1H
X-Robots-Tag:noindex
X-PUBLISHED-TTL:PT1H
BEGIN:VTIMEZONE
TZID:America/Sao_Paulo
BEGIN:STANDARD
TZOFFSETFROM:-0300
TZOFFSETTO:-0300
TZNAME:-03
DTSTART:20230101T000000
END:STANDARD
END:VTIMEZONE
BEGIN:VEVENT
DTSTART;TZID=America/Sao_Paulo:20250606T200000
DTEND;TZID=America/Sao_Paulo:20250606T230000
DTSTAMP:20260421T192626
CREATED:20250225T221003Z
LAST-MODIFIED:20250526T111151Z
UID:806-1749240000-1749250800@eastcoastcommune.com
SUMMARY:Hip Hop Karaoke
DESCRIPTION:  \nJoin us for our growing Hip Hop Karaoke event hosted by Dj RGG. \nIf you missed the last one\, be sure not to miss this.  Pick any Hip Hop\, Reggae \, Rnb\, Soul music and hit the stage. \nParticipate or cheer on performers.  It’s soo much fun \nSee you there
URL:https://eastcoastcommune.com/event/hip-hop-karaoke/
LOCATION:The Commune Snackbar\, 563 Prince st.\, Truro\, Nova Scotia\, B2N 3J8\, Canada
CATEGORIES:DJ
ATTACH;FMTTYPE=image/jpeg:https://eastcoastcommune.com/wp-content/uploads/2025/05/IMG_9929-scaled.jpeg
END:VEVENT
BEGIN:VEVENT
DTSTART;TZID=America/Sao_Paulo:20250526T080000
DTEND;TZID=America/Sao_Paulo:20250526T170000
DTSTAMP:20260421T192626
CREATED:20250526T110709Z
LAST-MODIFIED:20250526T110709Z
UID:1065-1748246400-1748278800@eastcoastcommune.com
SUMMARY:Hip Hop Karaoke
DESCRIPTION:Join us for our growing Hip Hop Karaoke event hosted by Dj RGG. \nIf you missed the last one\, be sure not to miss this.  Pick any Hip Hop\, Reggae \, Rnb\, Soul music and hit the stage. \nIt’s soo much fun!! \nSee you there
URL:https://eastcoastcommune.com/event/hip-hop-karaoke-3/
LOCATION:The Commune Snackbar\, 563 Prince st.\, Truro\, Nova Scotia\, B2N 3J8\, Canada
CATEGORIES:DJ
ATTACH;FMTTYPE=image/jpeg:https://eastcoastcommune.com/wp-content/uploads/2025/05/IMG_9929-scaled.jpeg
END:VEVENT
BEGIN:VEVENT
DTSTART;TZID=America/Sao_Paulo:20250503T200000
DTEND;TZID=America/Sao_Paulo:20250503T220000
DTSTAMP:20260421T192626
CREATED:20250212T001816Z
LAST-MODIFIED:20250404T115836Z
UID:738-1746302400-1746309600@eastcoastcommune.com
SUMMARY:Hip Hop Trivia
DESCRIPTION:Test your knowledge with Hip Hop Trivia!! \nHosted by TJ \nMusic provided by Dj Ceezer \n 
URL:https://eastcoastcommune.com/event/hip-hop-trivia-4/
LOCATION:The Commune Snackbar\, 563 Prince st.\, Truro\, Nova Scotia\, B2N 3J8\, Canada
CATEGORIES:DJ
ATTACH;FMTTYPE=image/jpeg:https://eastcoastcommune.com/wp-content/uploads/2025/02/hhtrivia.jpg
END:VEVENT
BEGIN:VEVENT
DTSTART;TZID=America/Sao_Paulo:20250410T080000
DTEND;TZID=America/Sao_Paulo:20250410T230000
DTSTAMP:20260421T192626
CREATED:20250310T192036Z
LAST-MODIFIED:20250310T201713Z
UID:861-1744272000-1744326000@eastcoastcommune.com
SUMMARY:Robbie G Live in Truro
DESCRIPTION:Robbie G performs live in Truro at The Commune on April 10th!\n\nTickets on sale now!\n\n!
URL:https://eastcoastcommune.com/event/robbie-g-live-in-truro/
LOCATION:The Commune Snackbar\, 563 Prince st.\, Truro\, Nova Scotia\, B2N 3J8\, Canada
CATEGORIES:DJ,Live Music
ATTACH;FMTTYPE=image/jpeg:https://eastcoastcommune.com/wp-content/uploads/2025/03/ap-10-scaled-e1741634413991.jpg
END:VEVENT
BEGIN:VEVENT
DTSTART;TZID=America/Sao_Paulo:20250404T200000
DTEND;TZID=America/Sao_Paulo:20250404T230000
DTSTAMP:20260421T192626
CREATED:20250314T151100Z
LAST-MODIFIED:20250314T162419Z
UID:874-1743796800-1743807600@eastcoastcommune.com
SUMMARY:British Invasion
DESCRIPTION:The British Invasion was a cultural phenomenon of the mid-1960s\, when rock and pop music acts from the United Kingdom and other aspects of British culture became popular in America. \nDj JR will be playing all the brit hits and maybe even have some trivia and facts to go along with the music. \n  \nNo Cover \n8pm
URL:https://eastcoastcommune.com/event/british-invasion/
LOCATION:The Commune Snackbar\, 563 Prince st.\, Truro\, Nova Scotia\, B2N 3J8\, Canada
CATEGORIES:DJ
ATTACH;FMTTYPE=image/jpeg:https://eastcoastcommune.com/wp-content/uploads/2025/03/april-4.jpg
END:VEVENT
BEGIN:VEVENT
DTSTART;TZID=America/Sao_Paulo:20250329T200000
DTEND;TZID=America/Sao_Paulo:20250329T230000
DTSTAMP:20260421T192626
CREATED:20250321T123021Z
LAST-MODIFIED:20250321T123021Z
UID:905-1743278400-1743289200@eastcoastcommune.com
SUMMARY:Eptomatik
DESCRIPTION:Live at the Commune: Eptomatik \nCome out for a night of dancing! \n8pm \nNo Cover
URL:https://eastcoastcommune.com/event/eptomatik/
LOCATION:The Commune Snackbar\, 563 Prince st.\, Truro\, Nova Scotia\, B2N 3J8\, Canada
CATEGORIES:DJ
ATTACH;FMTTYPE=image/jpeg:https://eastcoastcommune.com/wp-content/uploads/2025/03/IMG_8903-e1751301121198.jpg
END:VEVENT
BEGIN:VEVENT
DTSTART;TZID=America/Sao_Paulo:20250307T190000
DTEND;TZID=America/Sao_Paulo:20250307T230000
DTSTAMP:20260421T192626
CREATED:20250212T003522Z
LAST-MODIFIED:20250212T003522Z
UID:745-1741374000-1741388400@eastcoastcommune.com
SUMMARY:International Women's Day Fundraiser
DESCRIPTION:Brigid is excited to announce another wonderful event in our International Women’s Day Celebration line-up!\n\n\nJoin us on Friday\, March 7th at 7pm for an evening of Women in History Trivia and Diva Karaoke at The Commune!Pay what you can.\nAll funds raised will be donated to ElevateHER!\n\n\n\nGrab your friends and contact The Commune to book your table! 902-843-1230\n\n\n#internationalwomensday #getyourtickets #sisterhood #musicnovascotia #locallivemusic #brigidtrio #trurons #womenempowerment #trurobuzz #community #support #communitysupport #karaoke #trivia
URL:https://eastcoastcommune.com/event/international-womens-day-fundraiser/
LOCATION:The Commune Snackbar\, 563 Prince st.\, Truro\, Nova Scotia\, B2N 3J8\, Canada
CATEGORIES:DJ,Live Music
ATTACH;FMTTYPE=image/jpeg:https://eastcoastcommune.com/wp-content/uploads/2025/02/IMG_8664.jpg
END:VEVENT
BEGIN:VEVENT
DTSTART;TZID=America/Sao_Paulo:20250222T200000
DTEND;TZID=America/Sao_Paulo:20250222T230000
DTSTAMP:20260421T192626
CREATED:20250128T004351Z
LAST-MODIFIED:20250128T004351Z
UID:692-1740254400-1740265200@eastcoastcommune.com
SUMMARY:Hip Hop Karaoke
DESCRIPTION:If you haven’t been to a Hip Hop Karaoke night\, you don’t know what your missing! \nChoose from many  Hip Hop\, RNB\, Reggae songs and more\, take the stage and tear the house down! \nHosted by DJ RGG
URL:https://eastcoastcommune.com/event/hip-hop-karaoke-2/
LOCATION:The Commune Snackbar\, 563 Prince st.\, Truro\, Nova Scotia\, B2N 3J8\, Canada
CATEGORIES:DJ
ATTACH;FMTTYPE=image/jpeg:https://eastcoastcommune.com/wp-content/uploads/2025/01/IMG_9241-scaled.jpeg
END:VEVENT
BEGIN:VEVENT
DTSTART;TZID=America/Sao_Paulo:20250216T200000
DTEND;TZID=America/Sao_Paulo:20250216T200000
DTSTAMP:20260421T192626
CREATED:20250129T221856Z
LAST-MODIFIED:20250129T221953Z
UID:706-1739736000-1739736000@eastcoastcommune.com
SUMMARY:Sunday Soul Sessions
DESCRIPTION:Join us for the first Sunday Soul Session! \nDJ RGG will be spinning classic soul\, funk \, rnb\, reggae and more. \nSpecial Guests will be popping by so you don’t want to miss this one! \n8pm \nNo Cover \nKitchen Open Late
URL:https://eastcoastcommune.com/event/sunday-soul-sessions/
LOCATION:The Commune Snackbar\, 563 Prince st.\, Truro\, Nova Scotia\, B2N 3J8\, Canada
CATEGORIES:DJ,Live Music
ATTACH;FMTTYPE=image/jpeg:https://eastcoastcommune.com/wp-content/uploads/2025/01/Colorful-Playful-Bold-Style-Events-Schedule-Flyer-3.jpg
END:VEVENT
BEGIN:VEVENT
DTSTART;TZID=America/Sao_Paulo:20250208T210000
DTEND;TZID=America/Sao_Paulo:20250208T230000
DTSTAMP:20260421T192626
CREATED:20250120T160801Z
LAST-MODIFIED:20250120T160801Z
UID:650-1739048400-1739055600@eastcoastcommune.com
SUMMARY:Beats\, Rhymes & Cyphers
DESCRIPTION:Calling all producers\, rhymers and singers! \nBeats\, Rhymes and Cyphers is a night where we highlight the Hip Hop & RnB Genre. \nProducers\, bring your beats down and hear them on our in house P.A. System\, vocalist memorize those lyrics for performances and cyphers. \nWe also will highlight the works of one producer every event. \nThis month we are celebrating the life\, work and influence of producer/artist J. Dilla. \n9pm / 19+ \nKitchen Always Open Late
URL:https://eastcoastcommune.com/event/beats-rhymes-cyphers/
LOCATION:The Commune Snackbar\, 563 Prince st.\, Truro\, Nova Scotia\, B2N 3J8\, Canada
CATEGORIES:DJ
ATTACH;FMTTYPE=image/jpeg:https://eastcoastcommune.com/wp-content/uploads/2025/01/BRC.jpg
END:VEVENT
BEGIN:VEVENT
DTSTART;TZID=America/Sao_Paulo:20250131T210000
DTEND;TZID=America/Sao_Paulo:20250131T210000
DTSTAMP:20260421T192626
CREATED:20250108T234025Z
LAST-MODIFIED:20250108T234148Z
UID:634-1738357200-1738357200@eastcoastcommune.com
SUMMARY:Live DJ : Eptomatik
DESCRIPTION:Come out for a great night of dancing!! \nEptomatik will be providing the tunes\, Bartenders will be mixing up the cocktails and Chef will be busting out the truffle tater tots! \nCome early and request your favourite songs! \n9pm  until late! \nNo Cover 
URL:https://eastcoastcommune.com/event/live-dj-eptomatik-2/
LOCATION:The Commune Snackbar\, 563 Prince st.\, Truro\, Nova Scotia\, B2N 3J8\, Canada
CATEGORIES:DJ
ATTACH;FMTTYPE=image/jpeg:https://eastcoastcommune.com/wp-content/uploads/2025/01/image000000-2.jpg
END:VEVENT
BEGIN:VEVENT
DTSTART;TZID=America/Sao_Paulo:20241214T210000
DTEND;TZID=America/Sao_Paulo:20241214T230000
DTSTAMP:20260421T192626
CREATED:20241204T222859Z
LAST-MODIFIED:20241204T222859Z
UID:511-1734210000-1734217200@eastcoastcommune.com
SUMMARY:Live Dj : EPTOMATIK
DESCRIPTION:Dance the night away to EDM. Yes EDM! \nLive DJ. EPTOMATIK will keep you dancing all night long. \nNo Cover. \n9PM \nKitchen Open Late
URL:https://eastcoastcommune.com/event/live-dj-eptomatik/
LOCATION:The Commune Snackbar\, 563 Prince st.\, Truro\, Nova Scotia\, B2N 3J8\, Canada
CATEGORIES:DJ
ATTACH;FMTTYPE=image/jpeg:https://eastcoastcommune.com/wp-content/uploads/2024/12/image000000.jpg
END:VEVENT
END:VCALENDAR