BEGIN:VCALENDAR
VERSION:2.0
PRODID:-//The Commune - ECPv6.15.20//NONSGML v1.0//EN
CALSCALE:GREGORIAN
METHOD:PUBLISH
X-WR-CALNAME:The Commune
X-ORIGINAL-URL:https://eastcoastcommune.com
X-WR-CALDESC:Events for The Commune
REFRESH-INTERVAL;VALUE=DURATION:PT1H
X-Robots-Tag:noindex
X-PUBLISHED-TTL:PT1H
BEGIN:VTIMEZONE
TZID:America/Sao_Paulo
BEGIN:STANDARD
TZOFFSETFROM:-0300
TZOFFSETTO:-0300
TZNAME:-03
DTSTART:20240101T000000
END:STANDARD
END:VTIMEZONE
BEGIN:VEVENT
DTSTART;TZID=America/Sao_Paulo:20250515T200000
DTEND;TZID=America/Sao_Paulo:20250515T213000
DTSTAMP:20260422T015852
CREATED:20250511T161903Z
LAST-MODIFIED:20250511T161903Z
UID:1059-1747339200-1747344600@eastcoastcommune.com
SUMMARY:Truro is Funny Comedy Show - Hosted by Big Norm Alconcel
DESCRIPTION:Come out and see why TRURO IS FUNNY! Get ready for a night full of laughs\, music and comedy at our hilarious stand-up comedy show at The Commune. Join us for a hilarious evening of stand up comedy hosted by the funny Big Norm Alconcel and a dope line up of local comedians that are ready to tickle your funny bone. Bring your friends and family for a memorable night out. Don’t miss out on this opportunity to enjoy live comedy in a cozy setting. Tickets are PAY-WHAT-YOU-CAN (suggested $10 donation) so get your tickets now and prepare for a night of non-stop laughter! \n  \nhttps://www.eventbrite.ca/e/truro-is-funny-a-comedy-show-tickets-1359290688039?aff=oddtdtcreator&keep_tld=1
URL:https://eastcoastcommune.com/event/truro-is-funny-comedy-show-hosted-by-big-norm-alconcel/
LOCATION:The Commune Snackbar\, 563 Prince st.\, Truro\, Nova Scotia\, B2N 3J8\, Canada
CATEGORIES:Comedy
ATTACH;FMTTYPE=image/avif:https://eastcoastcommune.com/wp-content/uploads/2025/05/https-cdn.evbuc_.com-images-1026711463-1423071000243-1-original.20250508-211710.avif
END:VEVENT
BEGIN:VEVENT
DTSTART;TZID=America/Sao_Paulo:20250418T200000
DTEND;TZID=America/Sao_Paulo:20250418T220000
DTSTAMP:20260422T015852
CREATED:20250123T230040Z
LAST-MODIFIED:20250405T201806Z
UID:622-1745006400-1745013600@eastcoastcommune.com
SUMMARY:Monthly Comedy Night- Hosted by James Keast
DESCRIPTION:Commune Comedy Night is a free stand-up comedy show featuring talented comics from all over the Maritimes. \nJames Keast is your host; he got his start in comedy in the wild streets of the Toronto scene before transplanting to New Glasgow\, where he produces a monthly show at New Glasgow Square. \nComedians TBA
URL:https://eastcoastcommune.com/event/comedy-night/
LOCATION:The Commune Snackbar\, 563 Prince st.\, Truro\, Nova Scotia\, B2N 3J8\, Canada
CATEGORIES:Comedy
ATTACH;FMTTYPE=image/jpeg:https://eastcoastcommune.com/wp-content/uploads/2025/01/IMG_4092.jpeg
END:VEVENT
END:VCALENDAR