BEGIN:VCALENDAR
VERSION:2.0
PRODID:-//The Commune - ECPv6.15.20//NONSGML v1.0//EN
CALSCALE:GREGORIAN
METHOD:PUBLISH
X-WR-CALNAME:The Commune
X-ORIGINAL-URL:https://eastcoastcommune.com
X-WR-CALDESC:Events for The Commune
REFRESH-INTERVAL;VALUE=DURATION:PT1H
X-Robots-Tag:noindex
X-PUBLISHED-TTL:PT1H
BEGIN:VTIMEZONE
TZID:America/Sao_Paulo
BEGIN:STANDARD
TZOFFSETFROM:-0300
TZOFFSETTO:-0300
TZNAME:-03
DTSTART:20250101T000000
END:STANDARD
END:VTIMEZONE
BEGIN:VEVENT
DTSTART;TZID=America/Sao_Paulo:20260424T200000
DTEND;TZID=America/Sao_Paulo:20260424T213000
DTSTAMP:20260421T230228
CREATED:20260413T191016Z
LAST-MODIFIED:20260413T191016Z
UID:1629-1777060800-1777066200@eastcoastcommune.com
SUMMARY:Monthly Comedy Night
DESCRIPTION:Reserve your seats for our monthly Stand-up Comedy Show. \nHosted by James Keats \nLine up TBA \n8pm \nFree \n 
URL:https://eastcoastcommune.com/event/monthly-comedy-night-5/
CATEGORIES:Comedy
ATTACH;FMTTYPE=image/jpeg:https://eastcoastcommune.com/wp-content/uploads/2026/03/IMG_4502-2-e1776107370400.jpeg
END:VEVENT
END:VCALENDAR